BEGIN:VCALENDAR
VERSION:2.0
PRODID:-//Assocontroller - ECPv6.5.2//NONSGML v1.0//EN
CALSCALE:GREGORIAN
METHOD:PUBLISH
X-WR-CALNAME:Assocontroller
X-ORIGINAL-URL:https://www.assocontroller.it
X-WR-CALDESC:Eventi per Assocontroller
REFRESH-INTERVAL;VALUE=DURATION:PT1H
X-Robots-Tag:noindex
X-PUBLISHED-TTL:PT1H
BEGIN:VTIMEZONE
TZID:Europe/Rome
BEGIN:DAYLIGHT
TZOFFSETFROM:+0100
TZOFFSETTO:+0200
TZNAME:CEST
DTSTART:20240331T010000
END:DAYLIGHT
BEGIN:STANDARD
TZOFFSETFROM:+0200
TZOFFSETTO:+0100
TZNAME:CET
DTSTART:20241027T010000
END:STANDARD
END:VTIMEZONE
BEGIN:VEVENT
DTSTART;TZID=Europe/Rome:20241205T141500
DTEND;TZID=Europe/Rome:20241205T173000
DTSTAMP:20260420T081529
CREATED:20240513T144145Z
LAST-MODIFIED:20241203T151701Z
UID:6007-1733408100-1733419800@www.assocontroller.it
SUMMARY:Controlling Data Driven Companies\, AI Data Governance\, Data Security
DESCRIPTION:Evento formativo\, in collaborazione con Projlink.net\, focalizzato su modelli e soluzioni di controllo di gestione e Data Governance avanzata. \n			\n									Iscriviti Ora\n					\n																										 \nIn un contesto sempre più orientato alla conoscenza ottenuta attraverso l’analisi strategica dei dati\, l’evento affronta le seguenti aree chiave: \nData Driven Financial Decision Making \n\nStrategie di Data-Driven: discussione sulle strategie per diventare una azienda data-driven\, ovvero un’azienda che basa le proprie decisioni su dati accurati e analisi approfondite.\nRuolo del Controller e dell’area Finanza: analisi del ruolo cruciale dello specialista di controllo di gestione nell’implementazione e gestione di una cultura aziendale orientata alla performance dei dati.\nStrumenti e Tecnologie: presentazione degli strumenti e delle tecnologie avanzate che facilitano e potenziano il controlling aziendale evoluto.\n\n  \nAI Evolution & Data Governance Avanzata \n\nGovernance dei Dati: approfondimento sulle best practices per la governance dei dati nell’era dell’intelligenza artificiale (AI).\nImplementazione di AI: esplorazione delle sfide e delle opportunità legate all’implementazione di sistemi di intelligenza artificiale\, accelerated Data Driven\, new AI Insight\, AI Data Modelling.\n\nData Governance Avanzata \n\nSicurezza e Protezione dei Dati\, Conformità Normativa\, Data Lineage e Tracciabilità\, Gestione Avanzata dei Metadati\, Qualità dei Dati Migliorata: Implementazione di strumenti e tecniche avanzate per garantire che i dati siano accurati\, completi e aggiornati.\n\nLe data-driven companies utilizzano la conoscenza guidata dai dati sicuri\, per ottenere vantaggi competitivi e guidare le decisioni in tutte le aree aziendali. \nQueste aziende\, stanno pianificando investimenti in infrastrutture e tecnologie dedicate\, come strumenti di raccolta\, archiviazione e visualizzazione\, sistemi di analisi avanzata di data science e security ed intelligenza artificiale. \nPartecipazione gratuita previa registrazione su piattaforma Eventbrite. \nGIOVEDÌ 5 DICEMBRE I DALLE 14.15 ALLE 17.30 I ONLINE \n			\n									Iscriviti Ora\n					\n																										 \nQuesto evento si rivolge a: \n\nController \, CFO e Specialisti di Controllo di Gestione (CdG). Il workshop si focalizza sull’importanza del ruolo del controller nella trasformazione data-driven e nella gestione di una cultura orientata alla performance attraverso dati accurati e analisi. Pertanto\, è particolarmente rilevante per chi lavora nel controllo di gestione e desidera potenziare le proprie competenze nell’uso dei dati per il decision making.\nProfessionisti dell’Area Finanza. Include una sezione specifica sull’analisi del ruolo della finanza e del controller nella governance dei dati e nell’adozione di tecnologie avanzate di intelligenza artificiale e data governance.\nManager e Decision Maker Aziendali. La parte del workshop dedicata alle strategie per diventare una “data-driven company” è rilevante per i leader aziendali interessati a orientare le proprie aziende verso l’uso strategico dei dati per vantaggi competitivi e decisioni informate.\n\n— \nOre Formative Professionali (OFP)Ai partecipanti verranno rilasciati 3 ore formative professionali (OFP) per coloro che sono in possesso dell’attestato di qualità e di qualificazione professionale dei servizi prestati di CONTROLLER rilasciata da ASSOCONTROLLER (ai sensi dell’art.4\, art.7 e art.8 della legge 14 gennaio 2013\, n. 4). Assocontroller è una Associazione affiliata a CNA Professioni — Liberatoria per la pubblicazione delle proprie immagini (fotografie o video) Partecipando all’evento si autorizza l’uso\, la riproduzione\, la pubblicazione di foto o video che includono la propria immagine. Non si effettuerà l’uso in contesti che ne pregiudichino la dignità personale ed il decoro. La posa e l’utilizzo delle immagini sono da considerarsi effettuate in forma gratuita.
URL:https://www.assocontroller.it/evento/controlling-data-driven-companies-ai-data-governance-data-security/
LOCATION:Webinar
CATEGORIES:Eventi in presenza,Webinar
END:VEVENT
END:VCALENDAR