BEGIN:VCALENDAR
VERSION:2.0
PRODID:-//Assocontroller - ECPv6.5.2//NONSGML v1.0//EN
CALSCALE:GREGORIAN
METHOD:PUBLISH
X-ORIGINAL-URL:https://www.assocontroller.it
X-WR-CALDESC:Eventi per Assocontroller
REFRESH-INTERVAL;VALUE=DURATION:PT1H
X-Robots-Tag:noindex
X-PUBLISHED-TTL:PT1H
BEGIN:VTIMEZONE
TZID:Europe/Rome
BEGIN:DAYLIGHT
TZOFFSETFROM:+0100
TZOFFSETTO:+0200
TZNAME:CEST
DTSTART:20240331T010000
END:DAYLIGHT
BEGIN:STANDARD
TZOFFSETFROM:+0200
TZOFFSETTO:+0100
TZNAME:CET
DTSTART:20241027T010000
END:STANDARD
BEGIN:DAYLIGHT
TZOFFSETFROM:+0100
TZOFFSETTO:+0200
TZNAME:CEST
DTSTART:20250330T010000
END:DAYLIGHT
BEGIN:STANDARD
TZOFFSETFROM:+0200
TZOFFSETTO:+0100
TZNAME:CET
DTSTART:20251026T010000
END:STANDARD
BEGIN:DAYLIGHT
TZOFFSETFROM:+0100
TZOFFSETTO:+0200
TZNAME:CEST
DTSTART:20260329T010000
END:DAYLIGHT
BEGIN:STANDARD
TZOFFSETFROM:+0200
TZOFFSETTO:+0100
TZNAME:CET
DTSTART:20261025T010000
END:STANDARD
END:VTIMEZONE
BEGIN:VEVENT
DTSTART;TZID=Europe/Rome:20241214T100000
DTEND;TZID=Europe/Rome:20241214T163000
DTSTAMP:20260420T094820
CREATED:20231219T174324Z
LAST-MODIFIED:20241206T112440Z
UID:4923-1734170400-1734193800@www.assocontroller.it
SUMMARY:IX Giornata del Controller (in presenza)
DESCRIPTION:Il riconoscimento Istituzionale della figura del Controller\nSABATO 14 DICEMBRE I NAPOLI\nPalazzo Salgar I dalle 10.00 alle 16.30 \nDal 2010 Assocontroller è promotore della figura del Controller e continua a porre al centro delle sue attività la formazione e l’attestazione delle competenze come strumenti concreti di crescita professionale. \nCome Controller\, sia libero professionista che dipendente aziendale\, in occasione della IX edizione della Giornata del Controller ti aspettiamo per valorizzare l’importanza della qualifica professionale in ambito di Controlling grazie all’intervento di esperti provenienti da tutta Italia. \nTra i principali focus dell’evento: \n\nATTESTAZIONE: il percorso per il riconoscimento professionale secondo la Legge 4/2013.\nCERTIFICAZIONE: gli strumenti e le convenzioni dedicate all’evoluzione della figura del Controller.\nGRUPPI DI RICERCA: la condivisione di casi studio e indagini su specifiche aree di intervento in ambito di controllo di gestione.\n\nL’evento è aperto ai soci Assocontroller e a tutte le figure professionali\, anche non iscritte ad Assocontroller\, che si occupano di amministrazione\, finance e controlling. \nUnisciti a noi e porta la tua esperienza all’interno di un evento esclusivo di formazione e networking dedicato interamente al controllo di gestione. \nIscrizione obbligatoria con contributo di 30 euro per il pranzo presso Palazzo Salgar. \n\nIscriviti Ora\n\n\n\nIscriviti Ora
URL:https://www.assocontroller.it/evento/ix-giornata-del-controller/
CATEGORIES:Eventi in presenza
END:VEVENT
BEGIN:VEVENT
DTSTART;TZID=Europe/Rome:20251213T100000
DTEND;TZID=Europe/Rome:20251213T100000
DTSTAMP:20260420T094820
CREATED:20250612T140941Z
LAST-MODIFIED:20251209T115459Z
UID:7529-1765620000-1765620000@www.assocontroller.it
SUMMARY:X Giornata del Controller
DESCRIPTION:POSTI DISPONIBILI ESAURITI \nSABATO 13 DICEMBRE I VeronaHotel Indigo I dalle 10.00 alle 17.00 \nL’evento annuale dedicato all’evoluzione del ruolo del Controller è giunto alla sua X^ edizione! \nIn sintonia con le sfide etiche\, relazionali e di crescita professionale che stiamo vivendo\, la giornata sarà focalizzata su tematiche legate allo sviluppo delle soft skills come fattore determinante nella gestione di imprese\, enti della PA e organizzazioni no-profit.  \nTra gli argomenti oggetto di dibattito: \n\nLa gestione etica e sicura del dato nell’era dell’AI.\nIl riconoscimento e la valorizzazione della qualifica di Controller nel mercato del lavoro.\nEsperienze concrete di controlling in aree specifiche di competenza curate dai Gruppi di Ricerca Assocontroller.\n\n  \nL’evento si terrà solo in presenza\, è aperto ai soci e a tutte le figure professionali\, anche non iscritte\, che si occupano di Amministrazione\, Finanza e Controllo. \nLa quota per il pranzo in hotel è pari a 30 euro e non verrà rimborsata in caso di assenza. L’importo versato sarà detratto dalla quota di rinnovo 2026 per i “soci” o dalla quota di iscrizione all’associazione per i “non soci” presenti all’evento. \nI posti sono limitati\, iscriviti ora\nAGENDA \n																														 \nMODULO DI ISCRIZIONE \nPAGAMENTO \nPer confermare la tua iscrizioni procedi con il pagamento: \n\n			\n			\n			\n			\n			\n			\n			\n			\n							\n				\n				\n						\n									Paga ora con PayPal\n				\n				\n		Oppure: \n\nBonifico\, sul conto corrente dell’Associazione IBAN IT84Z0200856842000105251182 (Unicredit\, filiale di Crema) con causale “Giornata del Controller Nome Cognome”\n\n Per maggiori informazioni\, contatta la segreteria organizzativa all’email segreteria@assocontroller.it.   \n— Liberatoria per la pubblicazione delle proprie immagini – fotografie o video — \nPartecipando all’evento si autorizza l’uso\, la riproduzione\, la pubblicazione di foto o video che includono la propria immagine. Non si effettuerà l’uso in contesti che ne pregiudichino la dignità personale ed il decoro. La posa e l’utilizzo delle immagini sono da considerarsi effettuate in forma gratuita.
URL:https://www.assocontroller.it/evento/x-giornata-del-controller/
LOCATION:VERONA
CATEGORIES:Eventi in presenza
END:VEVENT
BEGIN:VEVENT
DTSTART;TZID=Europe/Rome:20260618T140000
DTEND;TZID=Europe/Rome:20260618T180000
DTSTAMP:20260420T094820
CREATED:20260312T102338Z
LAST-MODIFIED:20260312T155350Z
UID:8416-1781791200-1781805600@www.assocontroller.it
SUMMARY:Cluster Day 2026
DESCRIPTION:Nello stesso giorno dalle tre sedi – Nord Ovest (Milano)\, Nord Est (Padova) e Centro Sud (Roma) – un incontro in presenza per condividere contenuti\, formazione e opportunità di networking.
URL:https://www.assocontroller.it/evento/cluster-day-2026/
LOCATION:Milano\, Padova\, Roma
CATEGORIES:Cluster,Eventi in presenza
END:VEVENT
BEGIN:VEVENT
DTSTART;TZID=Europe/Rome:20261212T100000
DTEND;TZID=Europe/Rome:20261212T180000
DTSTAMP:20260420T094820
CREATED:20260312T102805Z
LAST-MODIFIED:20260312T105244Z
UID:8423-1797069600-1797098400@www.assocontroller.it
SUMMARY:Giornata del Controller 2026
DESCRIPTION:L’evento dell’anno per lavorare\, crescere\, condividere la passione per il controlling e dire “Noi ci siamo!”
URL:https://www.assocontroller.it/evento/giornata-del-controller-2026/
LOCATION:Firenze
CATEGORIES:Eventi in presenza
END:VEVENT
END:VCALENDAR