BEGIN:VCALENDAR
VERSION:2.0
PRODID:-//Assocontroller - ECPv6.5.2//NONSGML v1.0//EN
CALSCALE:GREGORIAN
METHOD:PUBLISH
X-WR-CALNAME:Assocontroller
X-ORIGINAL-URL:https://www.assocontroller.it
X-WR-CALDESC:Eventi per Assocontroller
REFRESH-INTERVAL;VALUE=DURATION:PT1H
X-Robots-Tag:noindex
X-PUBLISHED-TTL:PT1H
BEGIN:VTIMEZONE
TZID:Europe/Rome
BEGIN:DAYLIGHT
TZOFFSETFROM:+0100
TZOFFSETTO:+0200
TZNAME:CEST
DTSTART:20240331T010000
END:DAYLIGHT
BEGIN:STANDARD
TZOFFSETFROM:+0200
TZOFFSETTO:+0100
TZNAME:CET
DTSTART:20241027T010000
END:STANDARD
END:VTIMEZONE
BEGIN:VEVENT
DTSTART;TZID=Europe/Rome:20240919T140000
DTEND;TZID=Europe/Rome:20240919T180000
DTSTAMP:20260419T211023
CREATED:20240513T144759Z
LAST-MODIFIED:20240830T113421Z
UID:6011-1726754400-1726768800@www.assocontroller.it
SUMMARY:3° Cluster Nord Est – Padova
DESCRIPTION:L’Assemblea Ordinaria Assocontroller 2026 si terrà\, in seconda convocazione\, il giorno 28 aprile 2026 alle ore 16.30 tramite piattaforma online. Per prendere visione dell’ordine del giorno e della documentazione\, nonché per conoscere i termini di votazione via email o tramite delega\, i soci possono inviare richiesta via email a segreteria@assocontroller.it. Auspicando in una numerosa partecipazione\, porgiamo cordiali saluti. Maurizio GrilliniPresidente Assocontroller Giovanni CiuchiVicepresidente Assocontroller Stefano MartelliSegretario Assocontroller
URL:https://www.assocontroller.it/evento/3-cluster-nord-est-padova/
LOCATION:PADOVA
CATEGORIES:Cluster,Eventi in presenza
END:VEVENT
END:VCALENDAR