BEGIN:VCALENDAR
VERSION:2.0
PRODID:-//Assocontroller - ECPv6.5.2//NONSGML v1.0//EN
CALSCALE:GREGORIAN
METHOD:PUBLISH
X-ORIGINAL-URL:https://www.assocontroller.it
X-WR-CALDESC:Eventi per Assocontroller
REFRESH-INTERVAL;VALUE=DURATION:PT1H
X-Robots-Tag:noindex
X-PUBLISHED-TTL:PT1H
BEGIN:VTIMEZONE
TZID:Europe/Rome
BEGIN:DAYLIGHT
TZOFFSETFROM:+0100
TZOFFSETTO:+0200
TZNAME:CEST
DTSTART:20240331T010000
END:DAYLIGHT
BEGIN:STANDARD
TZOFFSETFROM:+0200
TZOFFSETTO:+0100
TZNAME:CET
DTSTART:20241027T010000
END:STANDARD
END:VTIMEZONE
BEGIN:VEVENT
DTSTART;TZID=Europe/Rome:20240711T143000
DTEND;TZID=Europe/Rome:20240711T173000
DTSTAMP:20260420T000806
CREATED:20231219T174040Z
LAST-MODIFIED:20240904T152518Z
UID:4917-1720708200-1720719000@www.assocontroller.it
SUMMARY:Controlling Cash Flow Planning and Forecasting - Enterprise Liquidity Management
DESCRIPTION:L’Assemblea Ordinaria Assocontroller 2026 si terrà\, in seconda convocazione\, il giorno 28 aprile 2026 alle ore 16.30 tramite piattaforma online. Per prendere visione dell’ordine del giorno e della documentazione\, nonché per conoscere i termini di votazione via email o tramite delega\, i soci possono inviare richiesta via email a segreteria@assocontroller.it. Auspicando in una numerosa partecipazione\, porgiamo cordiali saluti. Maurizio GrilliniPresidente Assocontroller Giovanni CiuchiVicepresidente Assocontroller Stefano MartelliSegretario Assocontroller
URL:https://www.assocontroller.it/evento/controlling-cash-flow-planning-and-forecasting-enterprise-liquidity-management/
LOCATION:Webinar
CATEGORIES:Eventi in presenza
END:VEVENT
END:VCALENDAR