BEGIN:VCALENDAR
VERSION:2.0
PRODID:-//Assocontroller - ECPv6.5.2//NONSGML v1.0//EN
CALSCALE:GREGORIAN
METHOD:PUBLISH
X-WR-CALNAME:Assocontroller
X-ORIGINAL-URL:https://www.assocontroller.it
X-WR-CALDESC:Eventi per Assocontroller
REFRESH-INTERVAL;VALUE=DURATION:PT1H
X-Robots-Tag:noindex
X-PUBLISHED-TTL:PT1H
BEGIN:VTIMEZONE
TZID:Europe/Rome
BEGIN:DAYLIGHT
TZOFFSETFROM:+0100
TZOFFSETTO:+0200
TZNAME:CEST
DTSTART:20230326T010000
END:DAYLIGHT
BEGIN:STANDARD
TZOFFSETFROM:+0200
TZOFFSETTO:+0100
TZNAME:CET
DTSTART:20231029T010000
END:STANDARD
END:VTIMEZONE
BEGIN:VEVENT
DTSTART;VALUE=DATE:20231130
DTEND;VALUE=DATE:20231201
DTSTAMP:20260421T221537
CREATED:20230204T105017Z
LAST-MODIFIED:20231129T203315Z
UID:3231-1701302400-1701388799@www.assocontroller.it
SUMMARY:Il Controller nelle Data Driven Companies - Data quality e Data value - 30/11/2023 ore 14.30 - 17.30
DESCRIPTION:L’Assemblea Ordinaria Assocontroller 2026 si terrà\, in seconda convocazione\, il giorno 28 aprile 2026 alle ore 16.30 tramite piattaforma online. Per prendere visione dell’ordine del giorno e della documentazione\, nonché per conoscere i termini di votazione via email o tramite delega\, i soci possono inviare richiesta via email a segreteria@assocontroller.it. Auspicando in una numerosa partecipazione\, porgiamo cordiali saluti. Maurizio GrilliniPresidente Assocontroller Giovanni CiuchiVicepresidente Assocontroller Stefano MartelliSegretario Assocontroller
URL:https://www.assocontroller.it/evento/viii-giornata-del-controller/
CATEGORIES:Eventi in presenza
END:VEVENT
END:VCALENDAR